BEGIN:VCALENDAR
PRODID:-//PUBBLE//agenda//NL
VERSION:2.0
METHOD:PUBLISH
BEGIN:VEVENT
DTSTART:20251122T170000Z
DTEND:20251122T193000Z
DTSTAMP:20260423T153521Z
UID:028fbe78-c8a8-45bc-8969-6523d54e668d
CREATED:20260423T153521Z
NAME:SkateSwing RC de Oude Molen mooilaarbeek.nl
X-WR-CALNAME:SkateSwing RC de Oude Molen
X-ALT-DESC;FMTTYPE=text/html:<a href='/agenda/2025/11/22/skateswing-rc-de-oude-molen-87563'>/agenda/2025/11/22/skateswing-rc-de-oude-molen-87563</a> || <p>In 2004 introduceerde RC de Oude Molen voor het eerst de SkateSwing, en sindsdien is het één van de populairste evenementen in Beek en Donk. Iedere maand wordt onze eigen rollerhal omgetoverd tot een waar skateparadijs! De hal wordt gevuld met kleurrijke lampen, muziek van een DJ, een schans, een chillhoek en nog veel meer voor de ultieme rollerdisco-ervaring.</p><p>De SkateSwing is een evenement voor jong en oud. Of je nu een ervaren rolschaatser bent of gewoon voor de gezelligheid komt, iedereen is welkom. We organiseren niet alleen reguliere SkateSwing-avonden, maar ook speciale thema-avonden zoals Carnaval en Halloween. Daarnaast is er jaarlijks een Hollandse avond welke altijd een heel groot succes is.&nbsp;</p><p>Breng zelf je rolschaatsen of skates mee (helaas geen verhuur of leenmogelijkheden). Let op: stepjes en skateboards zijn niet toegestaan. Voor ouders of begeleiders die niet deelnemen aan de disco, is de toegang gratis. Deelname is altijd op eigen risico.</p><p>De entree is 6,50 euro, dit is inclusief chips, drinken, ijsje en een snack. Het is ook een ideale locatie om een kinderfeestje te organiseren, reserveer dan je kaarten vooraf via www.rcdeoudemolen.nl.</p>
DESCRIPTION:<a href='/agenda/2025/11/22/skateswing-rc-de-oude-molen-87563'>/agenda/2025/11/22/skateswing-rc-de-oude-molen-87563</a> || <p>In 2004 introduceerde RC de Oude Molen voor het eerst de SkateSwing, en sindsdien is het één van de populairste evenementen in Beek en Donk. Iedere maand wordt onze eigen rollerhal omgetoverd tot een waar skateparadijs! De hal wordt gevuld met kleurrijke lampen, muziek van een DJ, een schans, een chillhoek en nog veel meer voor de ultieme rollerdisco-ervaring.</p><p>De SkateSwing is een evenement voor jong en oud. Of je nu een ervaren rolschaatser bent of gewoon voor de gezelligheid komt, iedereen is welkom. We organiseren niet alleen reguliere SkateSwing-avonden, maar ook speciale thema-avonden zoals Carnaval en Halloween. Daarnaast is er jaarlijks een Hollandse avond welke altijd een heel groot succes is.&nbsp;</p><p>Breng zelf je rolschaatsen of skates mee (helaas geen verhuur of leenmogelijkheden). Let op: stepjes en skateboards zijn niet toegestaan. Voor ouders of begeleiders die niet deelnemen aan de disco, is de toegang gratis. Deelname is altijd op eigen risico.</p><p>De entree is 6,50 euro, dit is inclusief chips, drinken, ijsje en een snack. Het is ook een ideale locatie om een kinderfeestje te organiseren, reserveer dan je kaarten vooraf via www.rcdeoudemolen.nl.</p>
LAST-MODIFIED:20260423T153521Z
LOCATION: RC de Oude molen | Lage Heesweg 1 Beek en Donk
SEQUENCE:0
STATUS:CONFIRMED
SUMMARY:SkateSwing RC de Oude Molen
TRANSP:OPAQUE
END:VEVENT
END:VCALENDAR
