BEGIN:VCALENDAR
PRODID:-//PUBBLE//agenda//NL
VERSION:2.0
METHOD:PUBLISH
BEGIN:VEVENT
DTSTART:20250909T113000Z
DTEND:20250909T094600Z
DTSTAMP:20260424T145917Z
UID:b24d8b3c-1eff-46e4-bfe3-824a98595f70
CREATED:20260424T145917Z
NAME:Inloopuurtje Bibliotheek Beek en Donk mooilaarbeek.nl
X-WR-CALNAME:Inloopuurtje Bibliotheek Beek en Donk
X-ALT-DESC;FMTTYPE=text/html:<a href='/agenda/2025/9/9/inloopuurtje-bibliotheek-beek-en-donk-87618'>/agenda/2025/9/9/inloopuurtje-bibliotheek-beek-en-donk-87618</a> || <p>Thee &amp; Telefoon</p><p>Wil je nu eindelijk eens weten hoe je een foto appt naar je kleinkind? Hoe je online je medicijnen bestelt bij de huisarts? Hoe je online muziek luistert? Of misschien wil je iets lezen op Facebook?</p><p><strong>Vraag over digitale zaken</strong><br />Onze informatiepuntvrijwilliger zit voor je klaar voor een kletspraatje. Of je nu wel of geen hulp in je eigen omgeving hebt, je kunt ook terecht met je vraag over je online zaken.</p>
DESCRIPTION:<a href='/agenda/2025/9/9/inloopuurtje-bibliotheek-beek-en-donk-87618'>/agenda/2025/9/9/inloopuurtje-bibliotheek-beek-en-donk-87618</a> || <p>Thee &amp; Telefoon</p><p>Wil je nu eindelijk eens weten hoe je een foto appt naar je kleinkind? Hoe je online je medicijnen bestelt bij de huisarts? Hoe je online muziek luistert? Of misschien wil je iets lezen op Facebook?</p><p><strong>Vraag over digitale zaken</strong><br />Onze informatiepuntvrijwilliger zit voor je klaar voor een kletspraatje. Of je nu wel of geen hulp in je eigen omgeving hebt, je kunt ook terecht met je vraag over je online zaken.</p>
LAST-MODIFIED:20260424T145917Z
LOCATION: Bibliotheek de Lage Beemden | Otterweg 27 Beek en Donk
SEQUENCE:0
STATUS:CONFIRMED
SUMMARY:Inloopuurtje Bibliotheek Beek en Donk
TRANSP:OPAQUE
END:VEVENT
END:VCALENDAR
