BEGIN:VCALENDAR
PRODID:-//PUBBLE//agenda//NL
VERSION:2.0
METHOD:PUBLISH
BEGIN:VEVENT
DTSTART:20251109T080000Z
DTEND:20251109T100000Z
DTSTAMP:20260425T170754Z
UID:6cf18af1-db18-4ddb-bb6b-d0acaea24be3
CREATED:20260425T170754Z
NAME:Publiekswandeling De Biezen mooilaarbeek.nl
X-WR-CALNAME:Publiekswandeling De Biezen
X-ALT-DESC;FMTTYPE=text/html:<a href='/agenda/2025/11/9/publiekswandeling-de-biezen-88899'>/agenda/2025/11/9/publiekswandeling-de-biezen-88899</a> || <p>Publiekswandeling De Biezen met IVN Laarbeek</p><p>Op zondag 10 november organiseert IVN Laarbeek een publiekswandeling door natuurgebied de Biezen. Deze landschapswandeling met aandacht voor flora, fauna en de waterhuishouding start om 10.00 uur bij de woning aan De Biezen 5, 5735 SM Aarle-Rixtel en duurt tot ongeveer 12.00 uur.&nbsp;</p><p>De Biezen wordt beheerd door Staatsbosbeheer. Het terrein bevat veel verschillende landschapselementen: botanisch rijke schraalgraslanden, natte loofbossen op lemige bodem, broekbos met zogenaamde rabatten: smalle dijkjes tussen de greppels, en droog eikenbos. Het gebied is ook bekend om een deel van de oude landweer, die in de Middeleeuwen is aangelegd. Je kunt over houten knuppelbruggetjes wandelen. &nbsp;Aan de noordzijde richting de N272 en aan de oostkant stroomt de Snelle Loop die een ecologische verbinding vormt met de gebieden Grotel en Milschot. Ze vormt de grens tussen Laarbeek en Gemert. Vanaf de voetgangersbrug in het Bruggenpad heb je een schitterend uitzicht over de diverse landschapselementen. Langs de loop liggen kruidenrijke blauwgraslanden.</p><p>De Biezen is rijk aan diverse soorten planten en paddenstoelen, maar het is ook een vogelrijk gebied. Lopend over het pad richting het boswachtershuis hoor je en zie je de boomklevers in de oude bomen. Deze landschapswandeling is zeker de moeite waard. Een plezierige en leerzame wandeling gewenst!</p>
DESCRIPTION:<a href='/agenda/2025/11/9/publiekswandeling-de-biezen-88899'>/agenda/2025/11/9/publiekswandeling-de-biezen-88899</a> || <p>Publiekswandeling De Biezen met IVN Laarbeek</p><p>Op zondag 10 november organiseert IVN Laarbeek een publiekswandeling door natuurgebied de Biezen. Deze landschapswandeling met aandacht voor flora, fauna en de waterhuishouding start om 10.00 uur bij de woning aan De Biezen 5, 5735 SM Aarle-Rixtel en duurt tot ongeveer 12.00 uur.&nbsp;</p><p>De Biezen wordt beheerd door Staatsbosbeheer. Het terrein bevat veel verschillende landschapselementen: botanisch rijke schraalgraslanden, natte loofbossen op lemige bodem, broekbos met zogenaamde rabatten: smalle dijkjes tussen de greppels, en droog eikenbos. Het gebied is ook bekend om een deel van de oude landweer, die in de Middeleeuwen is aangelegd. Je kunt over houten knuppelbruggetjes wandelen. &nbsp;Aan de noordzijde richting de N272 en aan de oostkant stroomt de Snelle Loop die een ecologische verbinding vormt met de gebieden Grotel en Milschot. Ze vormt de grens tussen Laarbeek en Gemert. Vanaf de voetgangersbrug in het Bruggenpad heb je een schitterend uitzicht over de diverse landschapselementen. Langs de loop liggen kruidenrijke blauwgraslanden.</p><p>De Biezen is rijk aan diverse soorten planten en paddenstoelen, maar het is ook een vogelrijk gebied. Lopend over het pad richting het boswachtershuis hoor je en zie je de boomklevers in de oude bomen. Deze landschapswandeling is zeker de moeite waard. Een plezierige en leerzame wandeling gewenst!</p>
LAST-MODIFIED:20260425T170754Z
LOCATION: Woning De Biezen |  5 Aarle-Rixtel
SEQUENCE:0
STATUS:CONFIRMED
SUMMARY:Publiekswandeling De Biezen
TRANSP:OPAQUE
END:VEVENT
END:VCALENDAR
