BEGIN:VCALENDAR
PRODID:-//PUBBLE//agenda//NL
VERSION:2.0
METHOD:PUBLISH
BEGIN:VEVENT
DTSTART:20260901T103000Z
DTEND:20261231T130800Z
DTSTAMP:20260421T114600Z
UID:b0981387-9e99-4d0a-9098-a0a72caaa829
CREATED:20260421T114600Z
NAME:Repair café Lieshout mooilaarbeek.nl
X-WR-CALNAME:Repair café Lieshout
X-ALT-DESC;FMTTYPE=text/html:<a href='/agenda/2026/9/1/repair-cafe-lieshout-90295'>/agenda/2026/9/1/repair-cafe-lieshout-90295</a> || <p>Het Repair café Lieshout is open iedere derde woensdag van de maand (behalve in juli en augustus)</p>
DESCRIPTION:<a href='/agenda/2026/9/1/repair-cafe-lieshout-90295'>/agenda/2026/9/1/repair-cafe-lieshout-90295</a> || <p>Het Repair café Lieshout is open iedere derde woensdag van de maand (behalve in juli en augustus)</p>
LAST-MODIFIED:20260421T114600Z
LOCATION: Dorpshuis Lieshout | Grotenhof 2 Lieshout
SEQUENCE:0
STATUS:CONFIRMED
SUMMARY:Repair café Lieshout
TRANSP:OPAQUE
END:VEVENT
END:VCALENDAR
