BEGIN:VCALENDAR
PRODID:-//PUBBLE//agenda//NL
VERSION:2.0
METHOD:PUBLISH
BEGIN:VEVENT
DTSTART:20260303T173000Z
DTEND:20260303T183000Z
DTSTAMP:20260422T171214Z
UID:36cb54af-3efd-423e-95a8-b4e92a6cc708
CREATED:20260422T171214Z
NAME:Lezing werking erfrecht in Nederland mooilaarbeek.nl
X-WR-CALNAME:Lezing werking erfrecht in Nederland
X-ALT-DESC;FMTTYPE=text/html:<a href='/agenda/2026/3/3/lezing-werking-erfrecht-in-nederland-91941'>/agenda/2026/3/3/lezing-werking-erfrecht-in-nederland-91941</a> || <p>Lezing over de werking van het erfrecht in Nederland door familie- en erfrechtadvocaat Peter Verstappen</p><p>Locatie:&nbsp;&nbsp;&nbsp;&nbsp;&nbsp;&nbsp;&nbsp;&nbsp; De Groof uitvaartverzorging</p><p>&nbsp;&nbsp;&nbsp;&nbsp;&nbsp;&nbsp;&nbsp;&nbsp;&nbsp;&nbsp;&nbsp;&nbsp;&nbsp;&nbsp;&nbsp;&nbsp;&nbsp;&nbsp;&nbsp;&nbsp;&nbsp;&nbsp;&nbsp;&nbsp; Ingang Orangerie&nbsp;</p><p>Adres:&nbsp;&nbsp;&nbsp;&nbsp;&nbsp;&nbsp;&nbsp;&nbsp; Oranjelaan 54 te Beek en Donk</p><p>Wanneer: dinsdag 03 maart 19.30u</p><p>Als u geïnteresseerd bent kunt u zich telefonisch aanmelden: 0492-319533</p>
DESCRIPTION:<a href='/agenda/2026/3/3/lezing-werking-erfrecht-in-nederland-91941'>/agenda/2026/3/3/lezing-werking-erfrecht-in-nederland-91941</a> || <p>Lezing over de werking van het erfrecht in Nederland door familie- en erfrechtadvocaat Peter Verstappen</p><p>Locatie:&nbsp;&nbsp;&nbsp;&nbsp;&nbsp;&nbsp;&nbsp;&nbsp; De Groof uitvaartverzorging</p><p>&nbsp;&nbsp;&nbsp;&nbsp;&nbsp;&nbsp;&nbsp;&nbsp;&nbsp;&nbsp;&nbsp;&nbsp;&nbsp;&nbsp;&nbsp;&nbsp;&nbsp;&nbsp;&nbsp;&nbsp;&nbsp;&nbsp;&nbsp;&nbsp; Ingang Orangerie&nbsp;</p><p>Adres:&nbsp;&nbsp;&nbsp;&nbsp;&nbsp;&nbsp;&nbsp;&nbsp; Oranjelaan 54 te Beek en Donk</p><p>Wanneer: dinsdag 03 maart 19.30u</p><p>Als u geïnteresseerd bent kunt u zich telefonisch aanmelden: 0492-319533</p>
LAST-MODIFIED:20260422T171214Z
LOCATION: De Groof uitvaart | Oranjelaan 54 Beek en Donk
SEQUENCE:0
STATUS:CONFIRMED
SUMMARY:Lezing werking erfrecht in Nederland
TRANSP:OPAQUE
END:VEVENT
END:VCALENDAR
