BEGIN:VCALENDAR
PRODID:-//PUBBLE//agenda//NL
VERSION:2.0
METHOD:PUBLISH
BEGIN:VEVENT
DTSTART:20260427T163000Z
DTEND:20260427T183000Z
DTSTAMP:20260420T101550Z
UID:9ab3b25a-81b8-4b72-8d67-de691298cfc1
CREATED:20260420T101550Z
NAME:inleveren boeken mooilaarbeek.nl
X-WR-CALNAME:inleveren boeken
X-ALT-DESC;FMTTYPE=text/html:<a href='/agenda/2026/4/27/inleveren-boeken-93514'>/agenda/2026/4/27/inleveren-boeken-93514</a> || <p>inleveren boeken t.b.v. boekenmarkt</p>
DESCRIPTION:<a href='/agenda/2026/4/27/inleveren-boeken-93514'>/agenda/2026/4/27/inleveren-boeken-93514</a> || <p>inleveren boeken t.b.v. boekenmarkt</p>
LAST-MODIFIED:20260420T101550Z
LOCATION: Kouwenbergs kerkje | Kouwenberg 29 Aarle-Rixtel
SEQUENCE:0
STATUS:CONFIRMED
SUMMARY:inleveren boeken
TRANSP:OPAQUE
END:VEVENT
END:VCALENDAR
